BEGIN:VCALENDAR
VERSION:2.0
PRODID:SchoolNow
CALSCALE:GREGORIAN
BEGIN:VEVENT
UID:8cee1556-d9e9-11ef-8eb3-0a58a9feac02
DTSTAMP:20250124T002418Z
SUMMARY:Volleyball (Girls V) - Hebron
LOCATION:Lowell
URL;VALUE=URI:https://www.tricreek.k12.in.us/lhs/calendar/7360565/volleybal
 l-girls-v-hebron
DTSTART:20250915T233000Z
DTEND:20250916T013000Z
END:VEVENT
END:VCALENDAR
