BEGIN:VCALENDAR
VERSION:2.0
PRODID:SchoolNow
CALSCALE:GREGORIAN
BEGIN:VEVENT
UID:8cee1628-d9e9-11ef-989f-0a58a9feac02
DTSTAMP:20250124T002418Z
SUMMARY:Volleyball (Girls V) @ Michigan City High School
LOCATION:Michigan City High School
URL;VALUE=URI:https://www.tricreek.k12.in.us/lhs/calendar/7360566/volleybal
 l-girls-v-michigan-city-high-school
DTSTART:20250813T220000Z
DTEND:20250814T000000Z
END:VEVENT
END:VCALENDAR
