BEGIN:VCALENDAR
VERSION:2.0
PRODID:SchoolNow
CALSCALE:GREGORIAN
BEGIN:VEVENT
UID:8cee1718-d9e9-11ef-99e5-0a58a9feac02
DTSTAMP:20250124T002418Z
SUMMARY:Volleyball (Girls V) @ Highland High School
LOCATION:Highland High School
URL;VALUE=URI:https://www.tricreek.k12.in.us/lhs/calendar/7360567/volleybal
 l-girls-v-highland-high-school
DTSTART:20250923T233000Z
DTEND:20250924T013000Z
END:VEVENT
END:VCALENDAR
