BEGIN:VCALENDAR
VERSION:2.0
PRODID:SchoolNow
CALSCALE:GREGORIAN
BEGIN:VEVENT
UID:8cee19a2-d9e9-11ef-821a-0a58a9feac02
DTSTAMP:20250124T002418Z
SUMMARY:Volleyball (Girls V) @ Wheeler HS/Union Township MS
LOCATION:Wheeler HS/Union Township MS
URL;VALUE=URI:https://www.tricreek.k12.in.us/lhs/calendar/7360570/volleybal
 l-girls-v-wheeler-hs-union-township-ms
DTSTART:20241009T233000Z
DTEND:20241010T013000Z
END:VEVENT
END:VCALENDAR
