BEGIN:VCALENDAR
VERSION:2.0
PRODID:SchoolNow
CALSCALE:GREGORIAN
BEGIN:VEVENT
UID:8cee1a7e-d9e9-11ef-aa89-0a58a9feac02
DTSTAMP:20250124T002418Z
SUMMARY:Volleyball (Girls V) - IHSAA Sectional
LOCATION:Lowell Senior High School
URL;VALUE=URI:https://www.tricreek.k12.in.us/lhs/calendar/7360571/volleybal
 l-girls-v-ihsaa-sectional
DTSTART:20251018T230042Z
DTEND:20251019T010042Z
END:VEVENT
END:VCALENDAR
