BEGIN:VCALENDAR
VERSION:2.0
PRODID:SchoolNow
CALSCALE:GREGORIAN
BEGIN:VEVENT
UID:8cee1b50-d9e9-11ef-9657-0a58a9feac02
DTSTAMP:20250124T002418Z
SUMMARY:Volleyball (Girls V) @ HHS Varsity Classic
LOCATION:William Henry Harrison High School - West Lafayette
URL;VALUE=URI:https://www.tricreek.k12.in.us/lhs/calendar/7360572/volleybal
 l-girls-v-hhs-varsity-classic
DTSTART:20250913T130000Z
DTEND:20250913T150000Z
END:VEVENT
END:VCALENDAR
