BEGIN:VCALENDAR
VERSION:2.0
PRODID:SchoolNow
CALSCALE:GREGORIAN
BEGIN:VEVENT
UID:8cee1ed4-d9e9-11ef-9987-0a58a9feac02
DTSTAMP:20250124T002418Z
SUMMARY:Volleyball (Girls V) @ Hobart High School
LOCATION:Hobart High School
URL;VALUE=URI:https://www.tricreek.k12.in.us/lhs/calendar/7360573/volleybal
 l-girls-v-hobart-high-school
DTSTART:20250918T233000Z
DTEND:20250919T013000Z
END:VEVENT
END:VCALENDAR
