BEGIN:VCALENDAR
VERSION:2.0
PRODID:SchoolNow
CALSCALE:GREGORIAN
BEGIN:VEVENT
UID:8cee21ae-d9e9-11ef-a235-0a58a9feac02
DTSTAMP:20250124T002418Z
SUMMARY:Volleyball (Girls V) @ IHSAA Sectional
LOCATION:Hanover Central Jr-Sr High School
URL;VALUE=URI:https://www.tricreek.k12.in.us/lhs/calendar/7360574/volleybal
 l-girls-v-ihsaa-sectional
DTSTART:20241019T160000Z
DTEND:20241019T180000Z
END:VEVENT
END:VCALENDAR
