BEGIN:VCALENDAR
VERSION:2.0
PRODID:SchoolNow
CALSCALE:GREGORIAN
BEGIN:VEVENT
UID:8cee24d8-d9e9-11ef-8fb3-0a58a9feac02
DTSTAMP:20250124T002418Z
SUMMARY:Volleyball (Girls V) - Hanover Central Jr-Sr High School
LOCATION:Lowell Senior High School
URL;VALUE=URI:https://www.tricreek.k12.in.us/lhs/calendar/7360576/volleybal
 l-girls-v-hanover-central-jr-sr-high-school
DTSTART:20250911T233000Z
DTEND:20250912T013000Z
END:VEVENT
END:VCALENDAR
