BEGIN:VCALENDAR
VERSION:2.0
PRODID:SchoolNow
CALSCALE:GREGORIAN
BEGIN:VEVENT
UID:8cee2604-d9e9-11ef-a33c-0a58a9feac02
DTSTAMP:20250124T002418Z
SUMMARY:Volleyball (Girls V) - Kankakee Valley High School
LOCATION:Lowell Senior High School
URL;VALUE=URI:https://www.tricreek.k12.in.us/lhs/calendar/7360577/volleybal
 l-girls-v-kankakee-valley-high-school
DTSTART:20250930T233000Z
DTEND:20251001T013000Z
END:VEVENT
END:VCALENDAR
