BEGIN:VCALENDAR
VERSION:2.0
PRODID:SchoolNow
CALSCALE:GREGORIAN
BEGIN:VEVENT
UID:8cee26ea-d9e9-11ef-a4ee-0a58a9feac02
DTSTAMP:20250124T002418Z
SUMMARY:Volleyball (Girls V) @ Andrean High School
LOCATION:Andrean High School
URL;VALUE=URI:https://www.tricreek.k12.in.us/lhs/calendar/7360578/volleybal
 l-girls-v-andrean-high-school
DTSTART:20251002T233000Z
DTEND:20251003T013000Z
END:VEVENT
END:VCALENDAR
