BEGIN:VCALENDAR
VERSION:2.0
PRODID:SchoolNow
CALSCALE:GREGORIAN
BEGIN:VEVENT
UID:8cee27c6-d9e9-11ef-afcf-0a58a9feac02
DTSTAMP:20250124T002418Z
SUMMARY:Volleyball (Girls V) - Andrean High School
LOCATION:Lowell Senior High School
URL;VALUE=URI:https://www.tricreek.k12.in.us/lhs/calendar/7360579/volleybal
 l-girls-v-andrean-high-school
DTSTART:20241003T233000Z
DTEND:20241004T013000Z
END:VEVENT
END:VCALENDAR
