BEGIN:VCALENDAR
VERSION:2.0
PRODID:SchoolNow
CALSCALE:GREGORIAN
BEGIN:VEVENT
UID:8cee2a5a-d9e9-11ef-8e70-0a58a9feac02
DTSTAMP:20250124T002418Z
SUMMARY:Volleyball (Girls V) - IHSAA Sectional
LOCATION:IHSAA Sectional
URL;VALUE=URI:https://www.tricreek.k12.in.us/lhs/calendar/7360582/volleybal
 l-girls-v-ihsaa-sectional
DTSTART:20251018T150028Z
DTEND:20251018T170028Z
END:VEVENT
END:VCALENDAR
