BEGIN:VCALENDAR
VERSION:2.0
PRODID:SchoolNow
CALSCALE:GREGORIAN
BEGIN:VEVENT
UID:8cee2b54-d9e9-11ef-8733-0a58a9feac02
DTSTAMP:20250124T002418Z
SUMMARY:Volleyball (Girls V) @ IHSAA Sectional - Championship
LOCATION:Hanover Central Jr-Sr High School
URL;VALUE=URI:https://www.tricreek.k12.in.us/lhs/calendar/7360583/volleybal
 l-girls-v-ihsaa-sectional-championship
DTSTART:20241024T230031Z
DTEND:20241025T010031Z
END:VEVENT
END:VCALENDAR
