BEGIN:VCALENDAR
VERSION:2.0
PRODID:SchoolNow
CALSCALE:GREGORIAN
BEGIN:VEVENT
UID:8cee2c6c-d9e9-11ef-a65d-0a58a9feac02
DTSTAMP:20250124T002418Z
SUMMARY:Volleyball (Girls V) @ North Newton Jr-Sr High School
LOCATION:North Newton Jr-Sr High School
URL;VALUE=URI:https://www.tricreek.k12.in.us/lhs/calendar/7360584/volleybal
 l-girls-v-north-newton-jr-sr-high-school
DTSTART:20251006T233000Z
DTEND:20251007T013000Z
END:VEVENT
END:VCALENDAR
