BEGIN:VCALENDAR
VERSION:2.0
PRODID:SchoolNow
CALSCALE:GREGORIAN
BEGIN:VEVENT
UID:8d5afeb4-d9e9-11ef-805c-0a58a9feac02
DTSTAMP:20250124T002419Z
SUMMARY:Volleyball (Girls V) - Highland High School
LOCATION:Lowell Senior High School
URL;VALUE=URI:https://www.tricreek.k12.in.us/lhs/calendar/7360587/volleybal
 l-girls-v-highland-high-school
DTSTART:20250826T230000Z
DTEND:20250827T010000Z
END:VEVENT
END:VCALENDAR
