BEGIN:VCALENDAR
VERSION:2.0
PRODID:SchoolNow
CALSCALE:GREGORIAN
BEGIN:VEVENT
UID:8d5b02c4-d9e9-11ef-9394-0a58a9feac02
DTSTAMP:20250124T002419Z
SUMMARY:Volleyball (Girls V) @ Griffith Senior High School
LOCATION:Griffith Senior High School
URL;VALUE=URI:https://www.tricreek.k12.in.us/lhs/calendar/7360588/volleybal
 l-girls-v-griffith-senior-high-school
DTSTART:20250918T000000Z
DTEND:20250918T020000Z
END:VEVENT
END:VCALENDAR
