BEGIN:VCALENDAR
VERSION:2.0
PRODID:SchoolNow
CALSCALE:GREGORIAN
BEGIN:VEVENT
UID:8d5b0512-d9e9-11ef-9d1a-0a58a9feac02
DTSTAMP:20250124T002419Z
SUMMARY:Volleyball (Girls V) @ Kankakee Valley High School
LOCATION:Kankakee Valley High School
URL;VALUE=URI:https://www.tricreek.k12.in.us/lhs/calendar/7360590/volleybal
 l-girls-v-kankakee-valley-high-school
DTSTART:20250902T233000Z
DTEND:20250903T013000Z
END:VEVENT
END:VCALENDAR
