BEGIN:VCALENDAR
VERSION:2.0
PRODID:SchoolNow
CALSCALE:GREGORIAN
BEGIN:VEVENT
UID:8d5b060c-d9e9-11ef-93e0-0a58a9feac02
DTSTAMP:20250124T002419Z
SUMMARY:Volleyball (Girls V) - IHSAA Sectional
LOCATION:Lowell Senior High School
URL;VALUE=URI:https://www.tricreek.k12.in.us/lhs/calendar/7360591/volleybal
 l-girls-v-ihsaa-sectional
DTSTART:20251016T223039Z
DTEND:20251017T003039Z
END:VEVENT
END:VCALENDAR
