BEGIN:VCALENDAR
VERSION:2.0
PRODID:SchoolNow
CALSCALE:GREGORIAN
BEGIN:VEVENT
UID:8d5b06fc-d9e9-11ef-9ac7-0a58a9feac02
DTSTAMP:20250124T002419Z
SUMMARY:Volleyball (Girls V) @ Goshen Invitational
LOCATION:Goshen High School
URL;VALUE=URI:https://www.tricreek.k12.in.us/lhs/calendar/7360592/volleybal
 l-girls-v-goshen-invitational
DTSTART:20250920T130000Z
DTEND:20250920T150000Z
END:VEVENT
END:VCALENDAR
