BEGIN:VCALENDAR
VERSION:2.0
PRODID:SchoolNow
CALSCALE:GREGORIAN
BEGIN:VEVENT
UID:8d5b07e2-d9e9-11ef-8a46-0a58a9feac02
DTSTAMP:20250124T002419Z
SUMMARY:Volleyball (Girls V) - Munster High School
LOCATION:Lowell Senior High School
URL;VALUE=URI:https://www.tricreek.k12.in.us/lhs/calendar/7360593/volleybal
 l-girls-v-munster-high-school
DTSTART:20250925T233000Z
DTEND:20250926T013000Z
END:VEVENT
END:VCALENDAR
