BEGIN:VCALENDAR
VERSION:2.0
PRODID:SchoolNow
CALSCALE:GREGORIAN
BEGIN:VEVENT
UID:8d5b08be-d9e9-11ef-8e0b-0a58a9feac02
DTSTAMP:20250124T002419Z
SUMMARY:Volleyball (Girls V) - Merrillville High School
LOCATION:Lowell Senior High School
URL;VALUE=URI:https://www.tricreek.k12.in.us/lhs/calendar/7360594/volleybal
 l-girls-v-merrillville-high-school
DTSTART:20250820T233000Z
DTEND:20250821T013000Z
END:VEVENT
END:VCALENDAR
