BEGIN:VCALENDAR
VERSION:2.0
PRODID:SchoolNow
CALSCALE:GREGORIAN
BEGIN:VEVENT
UID:8d5b099a-d9e9-11ef-ba4c-0a58a9feac02
DTSTAMP:20250124T002419Z
SUMMARY:Volleyball (Girls V) @ Highland High School
LOCATION:Highland High School
URL;VALUE=URI:https://www.tricreek.k12.in.us/lhs/calendar/7360595/volleybal
 l-girls-v-highland-high-school
DTSTART:20240924T233000Z
DTEND:20240925T013000Z
END:VEVENT
END:VCALENDAR
