BEGIN:VCALENDAR
VERSION:2.0
PRODID:SchoolNow
CALSCALE:GREGORIAN
BEGIN:VEVENT
UID:8d5b0a76-d9e9-11ef-a328-0a58a9feac02
DTSTAMP:20250124T002419Z
SUMMARY:Volleyball (Girls V) - Wheeler High School
LOCATION:Lowell Senior High School
URL;VALUE=URI:https://www.tricreek.k12.in.us/lhs/calendar/7360596/volleybal
 l-girls-v-wheeler-high-school
DTSTART:20251008T233000Z
DTEND:20251009T013000Z
END:VEVENT
END:VCALENDAR
