BEGIN:VCALENDAR
VERSION:2.0
PRODID:SchoolNow
CALSCALE:GREGORIAN
BEGIN:VEVENT
UID:8d5b0b52-d9e9-11ef-b662-0a58a9feac02
DTSTAMP:20250124T002419Z
SUMMARY:Volleyball (Girls V) @ Chesterton High School
LOCATION:Chesterton Senior High School
URL;VALUE=URI:https://www.tricreek.k12.in.us/lhs/calendar/7360597/volleybal
 l-girls-v-chesterton-high-school
DTSTART:20250821T233000Z
DTEND:20250822T013000Z
END:VEVENT
END:VCALENDAR
