BEGIN:VCALENDAR
VERSION:2.0
PRODID:SchoolNow
CALSCALE:GREGORIAN
BEGIN:VEVENT
UID:8d5b0c2e-d9e9-11ef-a791-0a58a9feac02
DTSTAMP:20250124T002419Z
SUMMARY:Volleyball (Girls V) - Hobart High School
LOCATION:Lowell Senior High School
URL;VALUE=URI:https://www.tricreek.k12.in.us/lhs/calendar/7360598/volleybal
 l-girls-v-hobart-high-school
DTSTART:20250828T233000Z
DTEND:20250829T013000Z
END:VEVENT
END:VCALENDAR
