BEGIN:VCALENDAR
VERSION:2.0
PRODID:SchoolNow
CALSCALE:GREGORIAN
BEGIN:VEVENT
UID:8d5b0d0a-d9e9-11ef-b2bd-0a58a9feac02
DTSTAMP:20250124T002419Z
SUMMARY:Volleyball (Girls V) - North Newton Jr-Sr High School
LOCATION:Lowell Senior High School
URL;VALUE=URI:https://www.tricreek.k12.in.us/lhs/calendar/7360599/volleybal
 l-girls-v-north-newton-jr-sr-high-school
DTSTART:20241007T233000Z
DTEND:20241008T013000Z
END:VEVENT
END:VCALENDAR
