BEGIN:VCALENDAR
VERSION:2.0
PRODID:SchoolNow
CALSCALE:GREGORIAN
BEGIN:VEVENT
UID:8d5b0ddc-d9e9-11ef-a274-0a58a9feac02
DTSTAMP:20250124T002419Z
SUMMARY:Volleyball (Girls V) - Hanover Central Jr-Sr High School
LOCATION:Lowell Senior High School
URL;VALUE=URI:https://www.tricreek.k12.in.us/lhs/calendar/7360600/volleybal
 l-girls-v-hanover-central-jr-sr-high-school
DTSTART:20241010T233000Z
DTEND:20241011T013000Z
END:VEVENT
END:VCALENDAR
