BEGIN:VCALENDAR
VERSION:2.0
PRODID:SchoolNow
CALSCALE:GREGORIAN
BEGIN:VEVENT
UID:8d5b0f80-d9e9-11ef-a883-0a58a9feac02
DTSTAMP:20250124T002419Z
SUMMARY:Softball (Girls JV) - Andrean High School
LOCATION:Lowell Senior High School
URL;VALUE=URI:https://www.tricreek.k12.in.us/lhs/calendar/7360602/softball-
 girls-jv-andrean-high-school
DTSTART:20250410T214500Z
DTEND:20250410T234500Z
END:VEVENT
END:VCALENDAR
