BEGIN:VCALENDAR
VERSION:2.0
PRODID:SchoolNow
CALSCALE:GREGORIAN
BEGIN:VEVENT
UID:8d5b1106-d9e9-11ef-bde1-0a58a9feac02
DTSTAMP:20250124T002419Z
SUMMARY:Softball (Girls JV) - Valparaiso High School
LOCATION:Lowell Senior High School
URL;VALUE=URI:https://www.tricreek.k12.in.us/lhs/calendar/7360603/softball-
 girls-jv-valparaiso-high-school
DTSTART:20250419T150000Z
DTEND:20250419T170000Z
END:VEVENT
END:VCALENDAR
