BEGIN:VCALENDAR
VERSION:2.0
PRODID:SchoolNow
CALSCALE:GREGORIAN
BEGIN:VEVENT
UID:8d5b11ec-d9e9-11ef-a80e-0a58a9feac02
DTSTAMP:20250124T002419Z
SUMMARY:Softball (Girls JV) @ Highland High School
LOCATION:Highland High School
URL;VALUE=URI:https://www.tricreek.k12.in.us/lhs/calendar/7360604/softball-
 girls-jv-highland-high-school
DTSTART:20250501T214500Z
DTEND:20250501T234500Z
END:VEVENT
END:VCALENDAR
