BEGIN:VCALENDAR
VERSION:2.0
PRODID:SchoolNow
CALSCALE:GREGORIAN
BEGIN:VEVENT
UID:8d5b12be-d9e9-11ef-87cc-0a58a9feac02
DTSTAMP:20250124T002419Z
SUMMARY:Softball (Girls JV) - Hobart High School
LOCATION:Lowell Senior High School
URL;VALUE=URI:https://www.tricreek.k12.in.us/lhs/calendar/7360605/softball-
 girls-jv-hobart-high-school
DTSTART:20250424T220000Z
DTEND:20250425T000000Z
END:VEVENT
END:VCALENDAR
