BEGIN:VCALENDAR
VERSION:2.0
PRODID:SchoolNow
CALSCALE:GREGORIAN
BEGIN:VEVENT
UID:8d5b1390-d9e9-11ef-a8fb-0a58a9feac02
DTSTAMP:20250124T002419Z
SUMMARY:CANCELED - Softball (Girls JV) @ Illiana Christian High School
LOCATION:Illiana Christian High School
URL;VALUE=URI:https://www.tricreek.k12.in.us/lhs/calendar/7360606/canceled-
 softball-girls-jv-illiana-christian-high-school
DTSTART:20250508T220000Z
DTEND:20250509T000000Z
END:VEVENT
END:VCALENDAR
