BEGIN:VCALENDAR
VERSION:2.0
PRODID:SchoolNow
CALSCALE:GREGORIAN
BEGIN:VEVENT
UID:8d5b1462-d9e9-11ef-a0b3-0a58a9feac02
DTSTAMP:20250124T002419Z
SUMMARY:Softball (Girls JV) @ Andrean
LOCATION:Andrean
URL;VALUE=URI:https://www.tricreek.k12.in.us/lhs/calendar/7360607/softball-
 girls-jv-andrean
DTSTART:20250421T213000Z
DTEND:20250422T003000Z
END:VEVENT
END:VCALENDAR
