BEGIN:VCALENDAR
VERSION:2.0
PRODID:SchoolNow
CALSCALE:GREGORIAN
BEGIN:VEVENT
UID:8d5b16d8-d9e9-11ef-bf32-0a58a9feac02
DTSTAMP:20250124T002419Z
SUMMARY:Softball (Girls JV) - Munster High School
LOCATION:Lowell Senior High School
URL;VALUE=URI:https://www.tricreek.k12.in.us/lhs/calendar/7360610/softball-
 girls-jv-munster-high-school
DTSTART:20250506T220040Z
DTEND:20250507T000040Z
END:VEVENT
END:VCALENDAR
