BEGIN:VCALENDAR
VERSION:2.0
PRODID:SchoolNow
CALSCALE:GREGORIAN
BEGIN:VEVENT
UID:8d5b17a0-d9e9-11ef-ab92-0a58a9feac02
DTSTAMP:20250124T002419Z
SUMMARY:Softball (Girls JV) @ Kankakee Valley High School
LOCATION:Kankakee Valley High School
URL;VALUE=URI:https://www.tricreek.k12.in.us/lhs/calendar/7360611/softball-
 girls-jv-kankakee-valley-high-school
DTSTART:20250408T214500Z
DTEND:20250408T234500Z
END:VEVENT
END:VCALENDAR
