BEGIN:VCALENDAR
VERSION:2.0
PRODID:SchoolNow
CALSCALE:GREGORIAN
BEGIN:VEVENT
UID:8d5b1872-d9e9-11ef-8341-0a58a9feac02
DTSTAMP:20250124T002419Z
SUMMARY:Softball (Girls JV) @ Hanover Central Jr-Sr High School
LOCATION:Hanover Central Jr-Sr High School
URL;VALUE=URI:https://www.tricreek.k12.in.us/lhs/calendar/7360612/softball-
 girls-jv-hanover-central-jr-sr-high-school
DTSTART:20250417T214500Z
DTEND:20250417T234500Z
END:VEVENT
END:VCALENDAR
