BEGIN:VCALENDAR
VERSION:2.0
PRODID:SchoolNow
CALSCALE:GREGORIAN
BEGIN:VEVENT
UID:8d5b1944-d9e9-11ef-8d14-0a58a9feac02
DTSTAMP:20250124T002419Z
SUMMARY:Softball (Girls JV) @ Merrillville High School
LOCATION:Merrillville High School
URL;VALUE=URI:https://www.tricreek.k12.in.us/lhs/calendar/7360613/softball-
 girls-jv-merrillville-high-school
DTSTART:20250426T150000Z
DTEND:20250426T170000Z
END:VEVENT
END:VCALENDAR
