BEGIN:VCALENDAR
VERSION:2.0
PRODID:SchoolNow
CALSCALE:GREGORIAN
BEGIN:VEVENT
UID:8d5b1ae8-d9e9-11ef-a6b3-0a58a9feac02
DTSTAMP:20250124T002419Z
SUMMARY:Softball (Girls JV) @ Morton Senior High School
LOCATION:Morton Senior High School
URL;VALUE=URI:https://www.tricreek.k12.in.us/lhs/calendar/7360615/softball-
 girls-jv-morton-senior-high-school
DTSTART:20250519T214500Z
DTEND:20250519T234500Z
END:VEVENT
END:VCALENDAR
