BEGIN:VCALENDAR
VERSION:2.0
PRODID:SchoolNow
CALSCALE:GREGORIAN
BEGIN:VEVENT
UID:8d5b1bba-d9e9-11ef-a8eb-0a58a9feac02
DTSTAMP:20250124T002419Z
SUMMARY:Softball (Girls JV) - Lake Central High School
LOCATION:Lowell Senior High School
URL;VALUE=URI:https://www.tricreek.k12.in.us/lhs/calendar/7360616/softball-
 girls-jv-lake-central-high-school
DTSTART:20250407T213000Z
DTEND:20250407T233000Z
END:VEVENT
END:VCALENDAR
