BEGIN:VCALENDAR
VERSION:2.0
PRODID:SchoolNow
CALSCALE:GREGORIAN
BEGIN:VEVENT
UID:8d5b1c8c-d9e9-11ef-8248-0a58a9feac02
DTSTAMP:20250124T002419Z
SUMMARY:Softball (Girls JV) - Crown Point High School
LOCATION:Lowell Senior High School
URL;VALUE=URI:https://www.tricreek.k12.in.us/lhs/calendar/7360617/softball-
 girls-jv-crown-point-high-school
DTSTART:20250521T213000Z
DTEND:20250521T233000Z
END:VEVENT
END:VCALENDAR
