BEGIN:VCALENDAR
VERSION:2.0
PRODID:SchoolNow
CALSCALE:GREGORIAN
BEGIN:VEVENT
UID:8d5b1d5e-d9e9-11ef-b8d4-0a58a9feac02
DTSTAMP:20250124T002419Z
SUMMARY:Softball (Girls JV) - Chesterton High School
LOCATION:Lowell
URL;VALUE=URI:https://www.tricreek.k12.in.us/lhs/calendar/7360618/softball-
 girls-jv-chesterton-high-school
DTSTART:20250522T220000Z
DTEND:20250523T000000Z
END:VEVENT
END:VCALENDAR
