BEGIN:VCALENDAR
VERSION:2.0
PRODID:SchoolNow
CALSCALE:GREGORIAN
BEGIN:VEVENT
UID:8d5b1e26-d9e9-11ef-a911-0a58a9feac02
DTSTAMP:20250124T002419Z
SUMMARY:CANCELED - Softball (Girls JV) - Munster High School
LOCATION:Lowell Senior High School
URL;VALUE=URI:https://www.tricreek.k12.in.us/lhs/calendar/7360619/canceled-
 softball-girls-jv-munster-high-school
DTSTART:20250416T220000Z
DTEND:20250416T230000Z
END:VEVENT
END:VCALENDAR
