BEGIN:VCALENDAR
VERSION:2.0
PRODID:SchoolNow
CALSCALE:GREGORIAN
BEGIN:VEVENT
UID:8d5b1f5c-d9e9-11ef-a046-0a58a9feac02
DTSTAMP:20250124T002419Z
SUMMARY:Softball (Girls JV) - Hanover Central Jr-Sr High School
LOCATION:Lowell Senior High School
URL;VALUE=URI:https://www.tricreek.k12.in.us/lhs/calendar/7360620/softball-
 girls-jv-hanover-central-jr-sr-high-school
DTSTART:20250423T213000Z
DTEND:20250423T233000Z
END:VEVENT
END:VCALENDAR
