BEGIN:VCALENDAR
VERSION:2.0
PRODID:SchoolNow
CALSCALE:GREGORIAN
BEGIN:VEVENT
UID:8d5b202e-d9e9-11ef-83ea-0a58a9feac02
DTSTAMP:20250124T002419Z
SUMMARY:Track & Field (Boys V) @ IHSAA Regional
LOCATION:Valparaiso High School
URL;VALUE=URI:https://www.tricreek.k12.in.us/lhs/calendar/7360621/track-fie
 ld-boys-v-ihsaa-regional
DTSTART:20250529T220000Z
DTEND:20250530T000000Z
END:VEVENT
END:VCALENDAR
