BEGIN:VCALENDAR
VERSION:2.0
PRODID:SchoolNow
CALSCALE:GREGORIAN
BEGIN:VEVENT
UID:8d5b2100-d9e9-11ef-9866-0a58a9feac02
DTSTAMP:20250124T002419Z
SUMMARY:Track & Field (Boys V) @ Quad-Meet (HIGH/GWS/LOW/CHS)
LOCATION:Chesterton Senior High School
URL;VALUE=URI:https://www.tricreek.k12.in.us/lhs/calendar/7360622/track-fie
 ld-boys-v-quad-meet-high-gws-low-chs
DTSTART:20250409T213051Z
DTEND:20250409T233051Z
END:VEVENT
END:VCALENDAR
