BEGIN:VCALENDAR
VERSION:2.0
PRODID:SchoolNow
CALSCALE:GREGORIAN
BEGIN:VEVENT
UID:8d5b21d2-d9e9-11ef-8474-0a58a9feac02
DTSTAMP:20250124T002419Z
SUMMARY:Track & Field (Boys V) @ Kankakee Valley High School
LOCATION:Kankakee Valley High School
URL;VALUE=URI:https://www.tricreek.k12.in.us/lhs/calendar/7360623/track-fie
 ld-boys-v-kankakee-valley-high-school
DTSTART:20250415T220000Z
DTEND:20250416T000000Z
END:VEVENT
END:VCALENDAR
