BEGIN:VCALENDAR
VERSION:2.0
PRODID:SchoolNow
CALSCALE:GREGORIAN
BEGIN:VEVENT
UID:8d5b229a-d9e9-11ef-b2b3-0a58a9feac02
DTSTAMP:20250124T002419Z
SUMMARY:Track & Field (Boys V) @ McCutcheon High School
LOCATION:Purde University
URL;VALUE=URI:https://www.tricreek.k12.in.us/lhs/calendar/7360624/track-fie
 ld-boys-v-mccutcheon-high-school
DTSTART:20250315T140000Z
DTEND:20250315T160000Z
END:VEVENT
END:VCALENDAR
