BEGIN:VCALENDAR
VERSION:2.0
PRODID:SchoolNow
CALSCALE:GREGORIAN
BEGIN:VEVENT
UID:8d5b236c-d9e9-11ef-9835-0a58a9feac02
DTSTAMP:20250124T002419Z
SUMMARY:Track & Field (Boys V) @ Indian Indoor Open
LOCATION:Portage High School
URL;VALUE=URI:https://www.tricreek.k12.in.us/lhs/calendar/7360625/track-fie
 ld-boys-v-indian-indoor-open
DTSTART:20250308T153000Z
DTEND:20250308T173000Z
END:VEVENT
END:VCALENDAR
