BEGIN:VCALENDAR
VERSION:2.0
PRODID:SchoolNow
CALSCALE:GREGORIAN
BEGIN:VEVENT
UID:8d5b243e-d9e9-11ef-a0c8-0a58a9feac02
DTSTAMP:20250124T002419Z
SUMMARY:Track & Field (Boys V) @ Woody Woodrick Invitational
LOCATION:Munster High School
URL;VALUE=URI:https://www.tricreek.k12.in.us/lhs/calendar/7360626/track-fie
 ld-boys-v-woody-woodrick-invitational
DTSTART:20250412T150000Z
DTEND:20250412T170000Z
END:VEVENT
END:VCALENDAR
